Package: musicatk Version: 2.1.0 Command: /Library/Frameworks/R.framework/Resources/bin/R CMD build --keep-empty-dirs --no-resave-data musicatk StartedAt: 2025-02-03 17:40:15 -0500 (Mon, 03 Feb 2025) EndedAt: 2025-02-03 17:46:38 -0500 (Mon, 03 Feb 2025) EllapsedTime: 382.9 seconds RetCode: 0 Status: OK PackageFile: musicatk_2.1.0.tar.gz PackageFileSize: 3.109 MiB