Package: musicatk Version: 2.1.0 Command: rm -rf musicatk.buildbin-libdir && mkdir musicatk.buildbin-libdir && /Users/biocbuild/BBS/utils/build-universal.sh musicatk_2.1.0.tar.gz /Library/Frameworks/R.framework/Resources/bin/R musicatk.buildbin-libdir StartedAt: 2025-02-04 00:45:47 -0500 (Tue, 04 Feb 2025) EndedAt: 2025-02-04 00:46:54 -0500 (Tue, 04 Feb 2025) EllapsedTime: 67.0 seconds RetCode: 0 Status: OK PackageFile: musicatk_2.1.0.tgz PackageFileSize: 4.069 MiB