Package: musicatk Version: 2.1.0 Command: /Library/Frameworks/R.framework/Resources/bin/R CMD check --install=check:musicatk.install-out.txt --library=/Library/Frameworks/R.framework/Resources/library --no-vignettes --timings musicatk_2.1.0.tar.gz StartedAt: 2025-02-03 20:59:03 -0500 (Mon, 03 Feb 2025) EndedAt: 2025-02-03 21:03:58 -0500 (Mon, 03 Feb 2025) EllapsedTime: 294.8 seconds RetCode: 0 Status: OK CheckDir: musicatk.Rcheck Warnings: 0