Package: muscat Version: 1.23.0 Maintainer: Helena L. Crowell MaintainerEmail: helena at crowell.eu git_url: https://git.bioconductor.org/packages/muscat git_branch: devel git_last_commit: f29e598 git_last_commit_date: 2025-04-15 11:49:19 -0400 (Tue, 15 Apr 2025)