Package: multtest Version: 2.65.0 Maintainer: Katherine S. Pollard MaintainerEmail: katherine.pollard at gladstone.ucsf.edu git_url: https://git.bioconductor.org/packages/multtest git_branch: devel git_last_commit: d04ab2f git_last_commit_date: 2025-04-15 09:15:32 -0400 (Tue, 15 Apr 2025)