Package: multistateQTL Version: 1.3.2 Command: rm -rf multistateQTL.buildbin-libdir && mkdir multistateQTL.buildbin-libdir && E:\biocbuild\bbs-3.21-bioc\R\bin\R.exe CMD INSTALL --build --library=multistateQTL.buildbin-libdir multistateQTL_1.3.2.tar.gz StartedAt: 2025-02-04 08:28:30 -0500 (Tue, 04 Feb 2025) EndedAt: 2025-02-04 08:29:25 -0500 (Tue, 04 Feb 2025) EllapsedTime: 54.9 seconds RetCode: 0 Status: OK PackageFile: multistateQTL_1.3.2.zip PackageFileSize: 572.1 KiB