Package: multistateQTL Version: 2.1.1 Command: /home/biocbuild/bbs-3.22-bioc/R/bin/R CMD INSTALL multistateQTL StartedAt: 2025-10-06 15:32:57 -0400 (Mon, 06 Oct 2025) EndedAt: 2025-10-06 15:33:24 -0400 (Mon, 06 Oct 2025) EllapsedTime: 27.0 seconds RetCode: 0 Status: OK