Package: multistateQTL Version: 2.1.1 Command: /home/biocbuild/bbs-3.22-bioc/R/bin/R CMD build --keep-empty-dirs --no-resave-data --md5 multistateQTL StartedAt: 2025-10-06 18:55:14 -0400 (Mon, 06 Oct 2025) EndedAt: 2025-10-06 18:56:31 -0400 (Mon, 06 Oct 2025) EllapsedTime: 77.1 seconds RetCode: 0 Status: OK PackageFile: multistateQTL_2.1.1.tar.gz PackageFileSize: 865.2 KiB