Package: multistateQTL Version: 1.3.2 Command: /home/biocbuild/bbs-3.21-bioc/R/bin/R CMD build --keep-empty-dirs --no-resave-data multistateQTL StartedAt: 2025-02-03 18:30:36 -0500 (Mon, 03 Feb 2025) EndedAt: 2025-02-03 18:31:30 -0500 (Mon, 03 Feb 2025) EllapsedTime: 54.1 seconds RetCode: 0 Status: OK PackageFile: multistateQTL_1.3.2.tar.gz PackageFileSize: 789.2 KiB