Package: multistateQTL Version: 2.1.0 Command: /Library/Frameworks/R.framework/Resources/bin/R CMD check --install=check:multistateQTL.install-out.txt --library=/Library/Frameworks/R.framework/Resources/library --no-vignettes --timings multistateQTL_2.1.0.tar.gz StartedAt: 2025-04-29 20:34:07 -0400 (Tue, 29 Apr 2025) EndedAt: 2025-04-29 20:35:38 -0400 (Tue, 29 Apr 2025) EllapsedTime: 91.1 seconds RetCode: 0 Status: OK CheckDir: multistateQTL.Rcheck Warnings: 0