Package: multistateQTL Version: 2.1.0 Command: rm -rf multistateQTL.buildbin-libdir && mkdir multistateQTL.buildbin-libdir && /Users/biocbuild/BBS/utils/build-universal.sh multistateQTL_2.1.0.tar.gz /Library/Frameworks/R.framework/Resources/bin/R multistateQTL.buildbin-libdir StartedAt: 2025-04-29 22:38:57 -0400 (Tue, 29 Apr 2025) EndedAt: 2025-04-29 22:39:09 -0400 (Tue, 29 Apr 2025) EllapsedTime: 12.2 seconds RetCode: 0 Status: OK PackageFile: multistateQTL_2.1.0.tgz PackageFileSize: 937.8 KiB