Package: multiscan Version: 1.69.0 Command: /home/biocbuild/bbs-3.22-bioc/R/bin/R CMD INSTALL multiscan StartedAt: 2025-10-28 15:13:48 -0400 (Tue, 28 Oct 2025) EndedAt: 2025-10-28 15:13:52 -0400 (Tue, 28 Oct 2025) EllapsedTime: 3.7 seconds RetCode: 0 Status: OK