Package: multiscan Version: 1.69.0 Command: /home/biocbuild/bbs-3.22-bioc/R/bin/R CMD build --keep-empty-dirs --no-resave-data --md5 multiscan StartedAt: 2025-10-28 18:55:54 -0400 (Tue, 28 Oct 2025) EndedAt: 2025-10-28 18:56:02 -0400 (Tue, 28 Oct 2025) EllapsedTime: 8.0 seconds RetCode: 0 Status: OK PackageFile: multiscan_1.69.0.tar.gz PackageFileSize: 751.4 KiB