Package: multicrispr Version: 1.21.0 Command: /home/biocbuild/bbs-3.23-bioc/R/bin/R CMD INSTALL multicrispr StartedAt: 2025-11-23 15:45:45 -0500 (Sun, 23 Nov 2025) EndedAt: 2025-11-23 15:46:22 -0500 (Sun, 23 Nov 2025) EllapsedTime: 36.9 seconds RetCode: 0 Status: OK