Package: multicrispr Version: 1.21.0 Command: /home/biocbuild/bbs-3.23-bioc/R/bin/R CMD build --keep-empty-dirs --no-resave-data multicrispr StartedAt: 2025-11-23 18:56:01 -0500 (Sun, 23 Nov 2025) EndedAt: 2025-11-23 18:57:22 -0500 (Sun, 23 Nov 2025) EllapsedTime: 81.1 seconds RetCode: 0 Status: OK PackageFile: multicrispr_1.21.0.tar.gz PackageFileSize: 2.575 MiB