Package: multiWGCNA Version: 1.9.0 Command: /home/biocbuild/bbs-3.23-bioc/R/bin/R CMD INSTALL multiWGCNA StartedAt: 2025-11-05 15:51:13 -0500 (Wed, 05 Nov 2025) EndedAt: 2025-11-05 15:51:46 -0500 (Wed, 05 Nov 2025) EllapsedTime: 32.9 seconds RetCode: 0 Status: OK