Package: multiWGCNA Version: 1.7.0 Maintainer: Dario Tommasini MaintainerEmail: dtommasini0 at gmail.com git_url: https://git.bioconductor.org/packages/multiWGCNA git_branch: devel git_last_commit: b6102c0 git_last_commit_date: 2025-04-15 13:18:26 -0400 (Tue, 15 Apr 2025)