Package: multiMiR Version: 1.31.0 Command: /home/biocbuild/R/R/bin/R CMD INSTALL multiMiR StartedAt: 2025-10-23 20:46:28 -0000 (Thu, 23 Oct 2025) EndedAt: 2025-10-23 20:46:49 -0000 (Thu, 23 Oct 2025) EllapsedTime: 20.9 seconds RetCode: 0 Status: OK