Package: multiMiR Version: 1.31.0 Command: /home/biocbuild/R/R/bin/R CMD build --keep-empty-dirs --no-resave-data multiMiR StartedAt: 2025-10-21 01:37:23 -0000 (Tue, 21 Oct 2025) EndedAt: 2025-10-21 01:39:24 -0000 (Tue, 21 Oct 2025) EllapsedTime: 121.1 seconds RetCode: 0 Status: OK PackageFile: multiMiR_1.31.0.tar.gz PackageFileSize: 400.5 KiB