Package: multiHiCcompare Version: 1.28.0 Command: /home/biocbuild/bbs-3.22-bioc/R/bin/R CMD check --install=check:multiHiCcompare.install-out.txt --library=/home/biocbuild/bbs-3.22-bioc/R/site-library --timings multiHiCcompare_1.28.0.tar.gz StartedAt: 2025-10-30 08:18:40 -0400 (Thu, 30 Oct 2025) EndedAt: 2025-10-30 08:23:12 -0400 (Thu, 30 Oct 2025) EllapsedTime: 271.5 seconds RetCode: 0 Status: OK CheckDir: multiHiCcompare.Rcheck Warnings: 0