Package: multiHiCcompare Version: 1.25.0 Command: /home/biocbuild/bbs-3.21-bioc/R/bin/R CMD check --install=check:multiHiCcompare.install-out.txt --library=/home/biocbuild/bbs-3.21-bioc/R/site-library --timings multiHiCcompare_1.25.0.tar.gz StartedAt: 2025-02-17 00:21:01 -0500 (Mon, 17 Feb 2025) EndedAt: 2025-02-17 00:25:12 -0500 (Mon, 17 Feb 2025) EllapsedTime: 251.4 seconds RetCode: 0 Status: OK CheckDir: multiHiCcompare.Rcheck Warnings: 0