Package: multiHiCcompare Version: 1.25.0 Command: /home/biocbuild/R/R/bin/R CMD check --install=check:multiHiCcompare.install-out.txt --library=/home/biocbuild/R/R/site-library --no-vignettes --timings multiHiCcompare_1.25.0.tar.gz StartedAt: 2025-01-28 13:04:59 -0000 (Tue, 28 Jan 2025) EndedAt: 2025-01-28 13:10:57 -0000 (Tue, 28 Jan 2025) EllapsedTime: 357.8 seconds RetCode: 0 Status: OK CheckDir: multiHiCcompare.Rcheck Warnings: 0