Package: multiGSEA Version: 1.19.0 Command: rm -rf multiGSEA.buildbin-libdir && mkdir multiGSEA.buildbin-libdir && F:\biocbuild\bbs-3.22-bioc\R\bin\R.exe CMD INSTALL --build --library=multiGSEA.buildbin-libdir multiGSEA_1.19.0.tar.gz StartedAt: 2025-08-15 10:47:54 -0400 (Fri, 15 Aug 2025) EndedAt: 2025-08-15 10:49:33 -0400 (Fri, 15 Aug 2025) EllapsedTime: 98.6 seconds RetCode: 0 Status: OK PackageFile: multiGSEA_1.19.0.zip PackageFileSize: 988.3 KiB