Package: multiGSEA Version: 1.17.3 Command: E:\biocbuild\bbs-3.21-bioc\R\bin\R.exe CMD INSTALL multiGSEA StartedAt: 2025-02-03 16:13:16 -0500 (Mon, 03 Feb 2025) EndedAt: 2025-02-03 16:14:43 -0500 (Mon, 03 Feb 2025) EllapsedTime: 86.6 seconds RetCode: 0 Status: OK