Package: multiGSEA Version: 1.17.3 Command: /home/biocbuild/bbs-3.21-bioc/R/bin/R CMD check --install=check:multiGSEA.install-out.txt --library=/home/biocbuild/bbs-3.21-bioc/R/site-library --timings multiGSEA_1.17.3.tar.gz StartedAt: 2025-02-04 00:45:43 -0500 (Tue, 04 Feb 2025) EndedAt: 2025-02-04 01:20:16 -0500 (Tue, 04 Feb 2025) EllapsedTime: 2072.7 seconds RetCode: 0 Status: OK CheckDir: multiGSEA.Rcheck Warnings: 0