Package: multiGSEA Version: 1.17.3 Command: /Library/Frameworks/R.framework/Resources/bin/R CMD INSTALL multiGSEA StartedAt: 2025-02-03 15:40:15 -0500 (Mon, 03 Feb 2025) EndedAt: 2025-02-03 15:42:06 -0500 (Mon, 03 Feb 2025) EllapsedTime: 111.3 seconds RetCode: 0 Status: OK