Package: multiClust Version: 1.37.0 Command: E:\biocbuild\bbs-3.21-bioc\R\bin\R.exe CMD INSTALL multiClust StartedAt: 2025-02-04 16:31:12 -0500 (Tue, 04 Feb 2025) EndedAt: 2025-02-04 16:31:51 -0500 (Tue, 04 Feb 2025) EllapsedTime: 39.5 seconds RetCode: 0 Status: OK