Package: multiClust Version: 1.37.0 Command: E:\biocbuild\bbs-3.21-bioc\R\bin\R.exe CMD check --no-multiarch --install=check:multiClust.install-out.txt --library=E:\biocbuild\bbs-3.21-bioc\R\library --no-vignettes --timings multiClust_1.37.0.tar.gz StartedAt: 2025-02-05 03:51:39 -0500 (Wed, 05 Feb 2025) EndedAt: 2025-02-05 03:53:04 -0500 (Wed, 05 Feb 2025) EllapsedTime: 84.8 seconds RetCode: 0 Status: OK CheckDir: multiClust.Rcheck Warnings: 0