Package: multiClust Version: 1.37.0 Command: chmod a+r multiClust -R && E:\biocbuild\bbs-3.21-bioc\R\bin\R.exe CMD build --keep-empty-dirs --no-resave-data multiClust StartedAt: 2025-02-04 20:15:15 -0500 (Tue, 04 Feb 2025) EndedAt: 2025-02-04 20:16:04 -0500 (Tue, 04 Feb 2025) EllapsedTime: 48.8 seconds RetCode: 0 Status: OK PackageFile: multiClust_1.37.0.tar.gz PackageFileSize: 2.933 MiB