Package: multiClust Version: 1.37.0 Command: rm -rf multiClust.buildbin-libdir && mkdir multiClust.buildbin-libdir && E:\biocbuild\bbs-3.21-bioc\R\bin\R.exe CMD INSTALL --build --library=multiClust.buildbin-libdir multiClust_1.37.0.tar.gz StartedAt: 2025-02-05 08:26:31 -0500 (Wed, 05 Feb 2025) EndedAt: 2025-02-05 08:26:47 -0500 (Wed, 05 Feb 2025) EllapsedTime: 16.4 seconds RetCode: 0 Status: OK PackageFile: multiClust_1.37.0.zip PackageFileSize: 2.985 MiB