Package: multiClust
Version: 1.37.0
Command: /home/biocbuild/bbs-3.21-bioc/R/bin/R CMD build --keep-empty-dirs --no-resave-data multiClust
StartedAt: 2025-02-17 18:15:26 -0500 (Mon, 17 Feb 2025)
EndedAt: 2025-02-17 18:15:51 -0500 (Mon, 17 Feb 2025)
EllapsedTime: 25.0 seconds
RetCode: 0
Status: OK
PackageFile: multiClust_1.37.0.tar.gz
PackageFileSize: 3.025 <A href="http://en.wikipedia.org/wiki/MiB" target="_blank">MiB</A>