Package: multiClust Version: 1.39.0 Command: /Library/Frameworks/R.framework/Resources/bin/R CMD INSTALL multiClust StartedAt: 2025-04-27 15:09:27 -0400 (Sun, 27 Apr 2025) EndedAt: 2025-04-27 15:09:48 -0400 (Sun, 27 Apr 2025) EllapsedTime: 20.7 seconds RetCode: 0 Status: OK