Package: multiClust Version: 1.37.0 Command: /Library/Frameworks/R.framework/Resources/bin/R CMD check --install=check:multiClust.install-out.txt --library=/Library/Frameworks/R.framework/Resources/library --no-vignettes --timings multiClust_1.37.0.tar.gz StartedAt: 2025-02-05 21:55:54 -0500 (Wed, 05 Feb 2025) EndedAt: 2025-02-05 21:57:10 -0500 (Wed, 05 Feb 2025) EllapsedTime: 76.7 seconds RetCode: 0 Status: OK CheckDir: multiClust.Rcheck Warnings: 0