Package: multiClust Version: 1.37.0 Command: /home/biocbuild/R/R/bin/R CMD build --keep-empty-dirs --no-resave-data multiClust StartedAt: 2025-01-29 00:44:16 -0000 (Wed, 29 Jan 2025) EndedAt: 2025-01-29 00:44:55 -0000 (Wed, 29 Jan 2025) EllapsedTime: 39.0 seconds RetCode: 0 Status: OK PackageFile: multiClust_1.37.0.tar.gz PackageFileSize: 2.967 MiB