Package: multiClust Version: 1.37.0 Command: /Library/Frameworks/R.framework/Resources/bin/R CMD check --install=check:multiClust.install-out.txt --library=/Library/Frameworks/R.framework/Resources/library --no-vignettes --timings multiClust_1.37.0.tar.gz StartedAt: 2025-02-04 20:22:59 -0500 (Tue, 04 Feb 2025) EndedAt: 2025-02-04 20:23:26 -0500 (Tue, 04 Feb 2025) EllapsedTime: 26.4 seconds RetCode: 0 Status: OK CheckDir: multiClust.Rcheck Warnings: 0