Package: multiClust Version: 1.37.0 Command: /Library/Frameworks/R.framework/Resources/bin/R CMD build --keep-empty-dirs --no-resave-data multiClust StartedAt: 2025-02-04 17:04:52 -0500 (Tue, 04 Feb 2025) EndedAt: 2025-02-04 17:05:04 -0500 (Tue, 04 Feb 2025) EllapsedTime: 11.2 seconds RetCode: 0 Status: OK PackageFile: multiClust_1.37.0.tar.gz PackageFileSize: 3.047 MiB