Package: msqrob2 Version: 1.17.1 Command: chmod a+r msqrob2 -R && F:\biocbuild\bbs-3.22-bioc\R\bin\R.exe CMD build --keep-empty-dirs --no-resave-data msqrob2 StartedAt: 2025-08-14 21:44:10 -0400 (Thu, 14 Aug 2025) EndedAt: 2025-08-14 21:49:30 -0400 (Thu, 14 Aug 2025) EllapsedTime: 320.1 seconds RetCode: 0 Status: OK PackageFile: msqrob2_1.17.1.tar.gz PackageFileSize: 1.043 MiB