Package: msqrob2 Version: 1.17.1 Command: rm -rf msqrob2.buildbin-libdir && mkdir msqrob2.buildbin-libdir && F:\biocbuild\bbs-3.22-bioc\R\bin\R.exe CMD INSTALL --build --library=msqrob2.buildbin-libdir msqrob2_1.17.1.tar.gz StartedAt: 2025-08-15 10:46:48 -0400 (Fri, 15 Aug 2025) EndedAt: 2025-08-15 10:47:43 -0400 (Fri, 15 Aug 2025) EllapsedTime: 54.8 seconds RetCode: 0 Status: OK PackageFile: msqrob2_1.17.1.zip PackageFileSize: 1.375 MiB