Package: msqrob2 Version: 1.17.1 Command: /home/biocbuild/bbs-3.22-bioc/R/bin/R CMD INSTALL msqrob2 StartedAt: 2025-10-03 15:34:02 -0400 (Fri, 03 Oct 2025) EndedAt: 2025-10-03 15:34:33 -0400 (Fri, 03 Oct 2025) EllapsedTime: 30.3 seconds RetCode: 0 Status: OK