Package: msqrob2 Version: 1.17.1 Command: /home/biocbuild/bbs-3.22-bioc/R/bin/R CMD build --keep-empty-dirs --no-resave-data --md5 msqrob2 StartedAt: 2025-10-03 18:51:33 -0400 (Fri, 03 Oct 2025) EndedAt: 2025-10-03 18:53:29 -0400 (Fri, 03 Oct 2025) EllapsedTime: 116.1 seconds RetCode: 0 Status: OK PackageFile: msqrob2_1.17.1.tar.gz PackageFileSize: 2.53 MiB