Package: mspms Version: 1.1.0 Command: /home/biocbuild/R/R/bin/R CMD INSTALL mspms StartedAt: 2025-10-06 20:52:10 -0000 (Mon, 06 Oct 2025) EndedAt: 2025-10-06 20:52:15 -0000 (Mon, 06 Oct 2025) EllapsedTime: 5.2 seconds RetCode: 0 Status: OK