Package: mspms Version: 1.1.0 Command: /home/biocbuild/bbs-3.22-bioc/R/bin/R CMD build --keep-empty-dirs --no-resave-data --md5 mspms StartedAt: 2025-10-02 18:52:56 -0400 (Thu, 02 Oct 2025) EndedAt: 2025-10-02 18:55:20 -0400 (Thu, 02 Oct 2025) EllapsedTime: 144.2 seconds RetCode: 0 Status: OK PackageFile: mspms_1.1.0.tar.gz PackageFileSize: 3.346 MiB