Package: mspms Version: 1.1.0 Command: /Library/Frameworks/R.framework/Resources/bin/R CMD INSTALL mspms StartedAt: 2025-10-01 15:20:17 -0400 (Wed, 01 Oct 2025) EndedAt: 2025-10-01 15:20:19 -0400 (Wed, 01 Oct 2025) EllapsedTime: 2.1 seconds RetCode: 0 Status: OK