Package: mspms Version: 1.1.0 Command: /Library/Frameworks/R.framework/Resources/bin/R CMD build --keep-empty-dirs --no-resave-data mspms StartedAt: 2025-10-24 17:09:24 -0400 (Fri, 24 Oct 2025) EndedAt: 2025-10-24 17:10:14 -0400 (Fri, 24 Oct 2025) EllapsedTime: 49.5 seconds RetCode: 0 Status: OK PackageFile: mspms_1.1.0.tar.gz PackageFileSize: 3.45 MiB