Package: mspms Version: 1.3.1 Command: rm -rf mspms.buildbin-libdir && mkdir mspms.buildbin-libdir && /Users/biocbuild/BBS/utils/build-universal.sh mspms_1.3.1.tar.gz /Library/Frameworks/R.framework/Resources/bin/R mspms.buildbin-libdir StartedAt: 2025-11-23 23:45:14 -0500 (Sun, 23 Nov 2025) EndedAt: 2025-11-23 23:45:18 -0500 (Sun, 23 Nov 2025) EllapsedTime: 4.1 seconds RetCode: 0 Status: OK PackageFile: mspms_1.3.1.tgz PackageFileSize: 4.003 MiB