Package: msmsTests Version: 1.47.0 Command: /home/biocbuild/R/R/bin/R CMD INSTALL msmsTests StartedAt: 2025-10-23 21:06:59 -0000 (Thu, 23 Oct 2025) EndedAt: 2025-10-23 21:07:49 -0000 (Thu, 23 Oct 2025) EllapsedTime: 49.7 seconds RetCode: 0 Status: OK