Package: msmsTests Version: 1.47.0 Command: /home/biocbuild/R/R/bin/R CMD build --keep-empty-dirs --no-resave-data msmsTests StartedAt: 2025-10-21 01:32:29 -0000 (Tue, 21 Oct 2025) EndedAt: 2025-10-21 01:34:14 -0000 (Tue, 21 Oct 2025) EllapsedTime: 105.0 seconds RetCode: 0 Status: OK PackageFile: msmsTests_1.47.0.tar.gz PackageFileSize: 534.4 KiB