Package: msmsEDA Version: 1.47.0 Command: rm -rf msmsEDA.buildbin-libdir && mkdir msmsEDA.buildbin-libdir && F:\biocbuild\bbs-3.22-bioc\R\bin\R.exe CMD INSTALL --build --library=msmsEDA.buildbin-libdir msmsEDA_1.47.0.tar.gz StartedAt: 2025-08-15 10:46:29 -0400 (Fri, 15 Aug 2025) EndedAt: 2025-08-15 10:47:20 -0400 (Fri, 15 Aug 2025) EllapsedTime: 51.6 seconds RetCode: 0 Status: OK PackageFile: msmsEDA_1.47.0.zip PackageFileSize: 395.2 KiB