Package: msmsEDA Version: 1.45.0 Command: E:\biocbuild\bbs-3.21-bioc\R\bin\R.exe CMD check --no-multiarch --install=check:msmsEDA.install-out.txt --library=E:\biocbuild\bbs-3.21-bioc\R\library --no-vignettes --timings msmsEDA_1.45.0.tar.gz StartedAt: 2025-02-17 03:08:32 -0500 (Mon, 17 Feb 2025) EndedAt: 2025-02-17 03:11:13 -0500 (Mon, 17 Feb 2025) EllapsedTime: 161.2 seconds RetCode: 0 Status: OK CheckDir: msmsEDA.Rcheck Warnings: 0