Package: msmsEDA Version: 1.45.0 Command: rm -rf msmsEDA.buildbin-libdir && mkdir msmsEDA.buildbin-libdir && E:\biocbuild\bbs-3.21-bioc\R\bin\R.exe CMD INSTALL --build --library=msmsEDA.buildbin-libdir msmsEDA_1.45.0.tar.gz StartedAt: 2025-02-17 07:59:18 -0500 (Mon, 17 Feb 2025) EndedAt: 2025-02-17 07:59:59 -0500 (Mon, 17 Feb 2025) EllapsedTime: 40.9 seconds RetCode: 0 Status: OK PackageFile: msmsEDA_1.45.0.zip PackageFileSize: 395.4 KiB